BEGIN:VCALENDAR
VERSION:2.0
PRODID:https://github.com/derhansen/sf_event_mgt
METHOD:PUBLISH
BEGIN:VEVENT
UID:562-47@www.neuropsy.at
CLASS: PUBLIC
SUMMARY:Hirnfehlbildungen: Entstehung und neuropsychologische Konsequenzen
DESCRIPTION:Ziel Sie kennen die wichtigsten Prozesse der normalen Hirnentwi
 cklung, sowie typische Beispiele für Hirnfehlbildungen.  Sie haben einen
  Überblick über die neuropsychologischen Auswirkungen von Hirnfehlbildun
 gen.   Inhalt •    Die wichtigsten Phasen und Prozesse der normalen 
 Hirnentwicklung.  •    Wie entstehen Hirnfehlbildungen und welche Ar
 ten gibt es? •    Fallbeispiele: Wie entwickeln sich Kinder mit Hirnf
 ehlbildungen? Welche Faktoren beeinflussen die Entwicklung?  Literaturempf
 ehlung A. James Barkovich, Renzo Guerrini, Ruben I. Kuzniecky, Graeme D. J
 ackson, William B. Dobyns, A developmental and genetic classification for 
 malformations of cortical development: update 2012, Brain, Volume 135, Iss
 ue 5, May 2012, Pages 1348–1369, https://doi.org/10.1093/brain/aws019 K.
  Lidzba, R. Everts, G. Reuner, Neuropsychologie bei Kindern und Jugendlich
 en, Fortschritte der Neuropsychologie, Bd 20, Hogrefe, 2019
LOCATION:Webinar via Zoom
DTSTAMP:20250929T134927Z
DTSTART:20260619T120000Z
DTEND:20260620T101500Z
END:VEVENT
END:VCALENDAR