BEGIN:VCALENDAR
VERSION:2.0
PRODID:https://github.com/derhansen/sf_event_mgt
METHOD:PUBLISH
BEGIN:VEVENT
UID:619-47@www.neuropsy.at
CLASS: PUBLIC
SUMMARY:Differentialdiagnostik spezieller Demenzformen / Neurokognitiver StÃ¶rungen
DESCRIPTION:Ziel In diesem Webinar soll vermittelt werden, wie eine differe
 nzierte klinisch-neuropsychologische Diagnostik von speziellen Demenzforme
 n / Neurokognitiven StÃ¶rungen erfolgen kann und diese betreffend den Symp
 tomen, neuropsychologischen Profilen sowie weiteren Zusatzbefunden dargest
 ellt werden. Im ersten Teil liegt der Fokus auf der Lewy-Body-Demenz. Im z
 weiten Teil werden weitere spezielle Demenzformen / Neurokognitiven StÃ¶ru
 ngen vorgestellt und mit Fallbeispielen aus der Praxis vermittelt.Â \n\nIn
 halt 1.Â Â  Â Teil: Lewy-Body-Demenz Â  Â  Â  Â a.Â Â  Â Auswahl geeignete
 r Testverfahren sowie Erstellung und Interpretation des neuropsychologisch
 en Profils Â  Â  Â  Â b.Â Â  Â Darstellung des Symptomkomplexes der Lewy-B
 ody-Demenz und Interpretation von Zusatzbefunden Â  Â  Â  Â c.Â Â  Â Abgre
 nzung zur Neurokognitiven StÃ¶rung aufgrund einer Parkinson-Erkrankung Â  
 Â  Â  Â d.Â Â  Â Aufstellung von Interventionen und Empfehlungen 2.Â Â  Â 
 Teil: Darstellung weiterer spezieller Neurokognitiver StÃ¶rungen (NCD) Â  
 Â  Â  Â a.Â Â  Â Frontotemporale Demenz Â  Â  Â  Â  Â  Â  Â  Â  Â  Â i.Â Â
   Â Behaviorale Variante Â  Â  Â  Â  Â  Â  Â  Â  Â  ii.Â Â  Â Sprachliche 
 Varianten Â  Â  Â  Â  Â  Â  Â  Â  Â  Â  Â  Â  Â  1.Â Â  Â Semantische Vari
 ante Â  Â  Â  Â  Â  Â  Â  Â  Â  Â  Â  Â  Â  2.Â Â  Â Nicht-flÃ¼ssige/Agram
 matische Variante Â  Â  Â  Â  Â  Â  Â  Â  Â  Â  Â  Â  Â  3.Â Â  Â Logopeni
 sche Variante Â  Â  Â  Â b.Â Â  Â Substanz- und Medikamenteninduzierte Neu
 rokognitive StÃ¶rungenÂ  Â  Â  Â  Â  Â  Â  Â  Â  Â  Â i.Â Â  Â Alkoholindu
 zierte Schwere NCD Amnestisch-Konfabulatorischer Typ Â  Â  Â  Â  Â  Â  Â  
 Â  Â  ii.Â Â  Â Alkoholinduzierte Schwere NCD Nichtamnestisch-Konfabulator
 ischer Typ Â  Â  Â  Â  Â  Â  Â  Â  Â iii.Â Â  Â Andere Substanzinduzierte 
 Schwere NCD Â  Â  Â  Â c.Â Â  Â NCD aufgrund eines SchÃ¤del-Hirn-Traumas Â
   Â  Â  Â d.Â Â  Â NCD aufgrund einer Chorea Huntington Erkrankung Â  Â  Â
   Â e.Â Â  Â NCD aufgrund einer Multiple Sklerose Â  Â  Â  Â  f.Â Â  Â NCD
  aufgrund eines Normaldruckhydrocephalus\n\nLiteraturempfehlung Barkhof, F
 ., Fox, N. C., Bastos-Leite, A. J. & Scheltens, P. (2011). Neuroimaging in
  Dementia. Berlin: Springer. Boot, B., P., McDade, E. M., McGinnis, S. M. 
 & Boeve, B. F. (2013). Treatment of Dementia with Lewy Bodies. Curr Treat 
 Options Neurol., 15 (6), 738-764. Calabrese, P. & Ibach, B. (2013). Verhal
 tensneurologische StÃ¶rungen bei Lewy-Body- und Parkinson-Demenz sowie bei
  frontotemporaler Demenz. NeuroGeriatrie, 10 (2), 47-54. Falkai, P. & Witt
 chen, H.-U. (2015). Diagnostisches und Statistisches Manual Psychischer St
 Ã¶rungen DMS-5. GÃ¶ttingen: Hogrefe. McCleery, J., Morgan, S., Bradley, K.
 M., Noel-Storr, A.H., Ansorge, O. & Hyde C. (2015). Dopamine transporter i
 maging for the diagnosis of dementia wirh Lewy bodies (Review). Cochrane D
 atabase of Systematic Reviews, 1, 1-31. Stinton, C., McKeith, I., Taylor, 
 J.-P., Lafortune, L., Minoshi, E., Mak, E., Cambridge, V., Mason, J., Thom
 as, A. & OÂ´Brien, J. T. (2015). Pharmacological Management of Lewy Body D
 ementia: A Systematic Review and Meta-Analysis. Am J Psychiatry, 172, 731-
 742.
LOCATION:Webinar via Zoom
DTSTAMP:20260302T100459Z
DTSTART:20260529T070000Z
DTEND:20260530T141500Z
END:VEVENT
END:VCALENDAR