BEGIN:VCALENDAR
VERSION:2.0
PRODID:https://github.com/derhansen/sf_event_mgt
METHOD:PUBLISH
BEGIN:VEVENT
UID:608-47@www.neuropsy.at
CLASS: PUBLIC
SUMMARY:Praktische Neuroanatomie in der Neuropsychologie - Sezierkurs
DESCRIPTION:Ziel     Ohne profundes neurobiologisches Wissen sind Entste
 hung und Entwicklung von pathologischen Veränderungen des Nervensystems n
 icht zu begreifen. Die Neuroanatomie vermittelt Kenntnisse von der Gestalt
  und Struktur des zentralen Nervensystems. Die TeilnehmerInnen sollen durc
 h den Besuch des Seminars ihr Basiswissen über die topographische, funkti
 onelle als auch systematische Neuroanatomie erweitern und durch die Übung
 en am Präparat ihr räumliches Verständnis der besprochenen Strukturen v
 erbessern.\n\nInhalt Online: Theorie Deskriptive, topographische und funkt
 ionelle Neuroanatomie an Präparaten   Einführung über die Seziertechni
 ken  Präsenz: Praktische Erfahrung beim Sezieren Demonstration als auch p
 raktische Übungen an Präparaten (Gehirnen) Fakten zur Anatomie des Schä
 dels Fakten zum Inhalt der Schädelhöhle\n\nOrt des Präsenzteiles: Wien 
 Anatomisches Institut Wien, Währinger Strasse 13  \n\nLiteraturempfehlun
 g Werner Kahle, Michael Frotscher: Taschenatlas Anatomie, Band 3: Nervensy
 stem und Sinnesorgane - 11. Aktualisierte Auflage, Thieme-Verlag Stuttgart
 , 2013, ISBN: 9783134922110  Ein weißer Mantel für den praktischen Teil 
 am Samstag wird benötigt!  
LOCATION:Wien
DTSTAMP:20260403T113336Z
DTSTART:20261203T150000Z
DTEND:20261205T143000Z
END:VEVENT
END:VCALENDAR