BEGIN:VCALENDAR
VERSION:2.0
PRODID:https://github.com/derhansen/sf_event_mgt
METHOD:PUBLISH
BEGIN:VEVENT
UID:585-47@www.neuropsy.at
CLASS: PUBLIC
SUMMARY:Neuropsychologische Diagnostik und gutachterliche Aspekte bei postviralen Syndromen
DESCRIPTION:Ziele Der Workshop zielt darauf ab, die diagnostische und gutac
 hterliche Kompetenz im Umgang mit postviralen Syndromen zu stĂ¤rken. Die T
 eilnehmenden sollen lernen, typische kognitive und emotionale FunktionsstĂ
 ¶rungen differenziert zu erfassen, geeignete Testverfahren auszuwĂ¤hlen un
 d deren Ergebnisse im Kontext von Fatigue und fluktuierenden Belastbarkeit
  realistisch zu interpretieren. Im gutachterlichen Kontext soll die diagno
 stische Sicherheit erhĂ¶ht sowie der Umgang mit typische Fallstricken opti
 miert werden. Fundierte gutachterliche Bewertungen bei postviralen Syndrom
 en sollen ermĂ¶glicht werden.Â \n\nWenn von den Teilnehmer:innen gewĂĽnsch
 t, kann beim zweiten Termin kurz auch auf rechtliche Aspekte bei der Begut
 achtung in der Deutschland und in Ă–sterreich eingegangen werden.Â   Inhal
 t Der Workshop bietet einen praxisnahen Ăśberblick ĂĽber kognitive und emo
 tionale FunktionsstĂ¶rungen nach viralen Erkrankungen (z.â€ŻB. Long-COVID,
  Epstein-Barr). Im diagnostischen Teil werden aktuelle Befunde zu typische
 n neuropsychologischen Symptomprofilen (u.â€Ża. Fatigue, Aufmerksamkeits- 
 und GedĂ¤chtnisdefizite, ExekutivfunktionsstĂ¶rungen) vorgestellt und dere
 n Abgrenzung zu psychischen Begleit- oder Folgeerkrankungen thematisiert. 
 Besondere Schwerpunkte liegen auf der Auswahl geeigneter Testverfahren, de
 r Erfassung von BeschwerdenvaliditĂ¤t sowie der Interpretation unter BerĂĽ
 cksichtigung individueller Belastungs- und Erholungsfaktoren. Im gutachter
 lichen Teil werden KausalitĂ¤tsfragen, die Beurteilung von Teilhabeeinschr
 Ă¤nkungen und KompensationsmĂ¶glichkeiten sowie der Umgang mit unspezifisc
 hen Befunden diskutiert. Anhand von Fallbeispielen werden Kriterien fĂĽr e
 ine transparente, wissenschaftlich fundierte und rechtlich nachvollziehbar
 e Begutachtung aufgezeigt.Â   Literaturempfehlung â€˘Â Â  Â Eyfferth, T., 
 Koczulla, A.R., Freytag, H.W. et al. (2023). Problematik von Long /Post-CO
 VID in der Begutachtung. Unfallchirurgie 126, 373â€“386Â  â€˘Â Â  Â Herzig
 , S., Grundl, K. (2024). Fatigue bei neurologischen Erkrankungen. In: From
 melt, P., ThĂ¶ne-Otto, A., GrĂ¶tzbach, H. (eds) NeuroRehabilitation. Sprin
 ger, Berlin, Heidelberg. â€˘Â Â  Â KĂ¶nig, H. & Suchan, B. (2025). Neurops
 ychologische Begutachtung. Hogrefe. â€˘Â Â  Â Merten, T. (2025). Leitfaden
  fĂĽr die neuropsychologische Begutachtung. Hogrefe. â€˘Â Â  Â Rabady, S.,
  Hoffmann, K., Aigner, M. et al. (2023). Leitlinie S1 fĂĽr das Management 
 postviraler ZustĂ¤nde am Beispiel Post-COVID-19. Wien Klin Wochenschr 135,
  525â€“598. â€˘Â Â  Â Widder, B. (2025). Update Post-COVID-Begutachtung au
 f neurologisch-psychiatrischem Fachgebiet. Der medizinische SachverstĂ¤ndi
 ge, 121.
LOCATION:Webinar via Zoom
DTSTAMP:20260110T185940Z
DTSTART:20261007T140000Z
DTEND:20261014T171500Z
END:VEVENT
END:VCALENDAR