BEGIN:VCALENDAR
VERSION:2.0
PRODID:https://github.com/derhansen/sf_event_mgt
METHOD:PUBLISH
BEGIN:VEVENT
UID:567-47@www.neuropsy.at
CLASS: PUBLIC
SUMMARY:Neuropsychologische Diagnostik kurz und knackig! â€“ SIDAM
DESCRIPTION:Ziel Das "Strukturierte Interview fÃ¼r die Diagnose einer Demen
 z vom Alzheimer Typ, der Multiinfarkt- (oder vaskulÃ¤ren) Demenz und Demen
 zen anderer Ã„tiologie nach DSM-III-R, DSM-IV und ICD-10" (SIDAM) ist ein 
 Screeninginstrument zur Erfassung und Schweregradbestimmung kognitiver Fun
 ktionsdefizite, sowie ein Syndromdiagnostisches Erhebungsinstrument zur Er
 fassung der "leichten kognitiven BeeintrÃ¤chtigung" und von Demenzsyndrome
 n. Ziel dieses Kurz-Webinars ist es, das Verfahren vorzustellen, Vor- und 
 Nachteile zu prÃ¤sentieren und den Einsatz des Verfahrens an praktischen B
 eispielen zu demonstrieren und zu diskutieren.\n\nInhalt â€¢ Wichtige Eckd
 aten (Vertrieb und Bezug â€“ Kosten â€“ Dauer) â€¢ Welche Leistungen werde
 n erfasst? â€¢ QualitÃ¤tskriterien (Normen, Studien, ...) â€¢ Pro und Cont
 ra â€¢ konkrete und klar nachvollziehbare Anwendungsbeispiele â€¢ Patiente
 nbeispiele â€¢ Beantwortung von Fragen und Diskussion;\n\nLiteraturempfehl
 ung\n\nBusse, A.M., Aurich, C., Zaudig, M., Riedel-Heller, S.G., Matsching
 er, H., & Angermeyer, M.C. (2002). Alters- und bildungsspezifische Normier
 ung des kognitiven Tests des SIDAMÂ \n\nLuck, T., Zaudig, M., Wiese, B., &
  Riedel-Heller, S.G. (2007). SIDAM: Alters- und bildungsspezifische Normen
  des kognitiven Leistungsteiles nach der neuen CASMIN-Bildungsklassifikati
 on. Zeitschrift fÃ¼r Gerontopsychologie & -psychiatrie. 20. Zeitschrift fÃ
 ¼r Gerontologie und Geriatrie, 35, 565-574.\n\nZaudig, M., Hiller, W., Mom
 bour, W., Geiselmann, B., Hansert, E., Linder, G., Reischies F. M., & Thor
 a, Ch. (2020). SIDAM-Handbuch Strukturiertes Interview fÃ¼r die Diagnose e
 iner Demenz vom Alzheimer Typ, der Multiinfarkt- (oder vaskulÃ¤ren) Demenz
  und Demenzen anderer Ã„tiologie nach DSM-III-R, DSM-IV und ICD-10. GÃ¶tti
 ngen: Hogrefe.
LOCATION:Webinar via Zoom
DTSTAMP:20260110T190412Z
DTSTART:20261001T123000Z
DTEND:20261001T140000Z
END:VEVENT
END:VCALENDAR