BEGIN:VCALENDAR
VERSION:2.0
PRODID:https://github.com/derhansen/sf_event_mgt
METHOD:PUBLISH
BEGIN:VEVENT
UID:565-47@www.neuropsy.at
CLASS: PUBLIC
SUMMARY:Neuropsychologische Diagnostik kurz & knackig! – SCL-90-S (Symptom-Checklist-90®-Standard)
DESCRIPTION:Ziele Vorstellung und Kennenlernen der Symptom-Checkliste, ein 
 Selbstbeurteilungsverfahren zur Erfassung der psychischen Belastung bei Ju
 gendlichen und Erwachsenen. Die SCL-90®-S misst die subjektiv empfundene 
 Beeinträchtigung durch körperliche und psychische Symptome einer Person 
 innerhalb der letzten sieben Tage. Die SCL-90®-S bietet eine mehrdimensio
 nale Auswertung mit der Möglichkeit der Messwiederholung. Die 90 Items de
 r neun Skalen beschreiben die Bereiche Aggressivität/Feindseligkeit, Äng
 stlichkeit, Depressivität, Paranoides Denken, Phobische Angst, Psychotizi
 smus, Somatisierung, Unsicherheit im Sozialkontakt und Zwanghaftigkeit. Zu
 sätzlich werden drei globale Kennwerte angegeben: GSI (grundsätzliche ps
 ychische Belastung), PSDI (Intensität der Antworten) und PST (Anzahl der 
 Symptome, bei denen eine Belastung vorliegt). Diesbezüglich wird der Eins
 atz des Verfahrens an ein paar praktischen Beispielen demonstriert und Vor
 - und Nachteile diskutiert.  Inhalt • Wichtige Eckdaten (Vertrieb und Be
 zug – Kosten – Dauer) • Welche Leistungen werden erfasst? • Qualit
 ätskriterien (Normen, Studien, ...) • Pro und Contra • konkrete und k
 lar nachvollziehbare Anwendungsbeispiele • Patientenbeispiele • Beantw
 ortung von Fragen und Diskussion;  Literaturempfehlung Franke, G.H. (2014)
 . Symptom-Checklist-90®-Standard. Göttingen: Hogrefe.  
LOCATION:Webinar via Zoom
DTSTAMP:20260406T120903Z
DTSTART:20260520T123000Z
DTEND:20260520T140000Z
END:VEVENT
END:VCALENDAR