BEGIN:VCALENDAR
VERSION:2.0
PRODID:https://github.com/derhansen/sf_event_mgt
METHOD:PUBLISH
BEGIN:VEVENT
UID:583-47@www.neuropsy.at
CLASS: PUBLIC
SUMMARY:Neuropsychologie psychischer Störungen im Kindes- und Jugendalter - Teil 3
DESCRIPTION:Ziel Diese Webinar-Reihe soll aktuelle Befunde und Modelle in B
 ezug auf die Bedeutung neuropsychologischer Faktoren bei neuronalen Entwic
 klungsstörungen und psychischen Störungen im Kindes- und Jugendalter ver
 mitteln. Darauf aufbauend werden Implikationen für Diagnostik und Therapi
 e thematisiert.\n\nInhalt Neuropsychologische Funktionen bzw. Auffälligke
 iten spielen bei allen neuronalen Entwicklungsstörungen und psychischen S
 törungen eine gewichtige Rolle. Im Rahmen des Webinars soll insbesondere 
 erläutert werden, wie diese neuropsychologischen Funktionen bzw. Auffäll
 igkeiten a) spezifische Symptome bewirken, b) Symptomausprägungen beeinfl
 ussen, c) sich auf den Entwicklungsverlauf der Störungen auswirken und d)
  in der Behandlung berücksichtigt werden sollen.\n\nFolgende Störungsbil
 der werden behandelt: Körperdysmorphe Störung Nicht-suizidale Selbstverl
 etzung Borderline-Persönlichkeitsstörung Psychose/Schizophrenie mit Begi
 nn im Jugendalter  Literaturempfehlung\n\nAbramovitch, A. et al. (2021). T
 he C factor: cognitive dysfunction as a transdiagnostic dimension in psyc
 hopathology. Clinical Psychology Review, 86, 102007\n\nAgartz, I. & Smelro
 r, R.E. (Eds.) (2023). Adolescent Psychosis. Clinical and scientific persp
 ectives. London: Academic Press/Elsevier\n\nKaess, M. & Edinger, A. (2019)
 . Selbstverletzendes Verhalten. Entwicklungsrisiken erkennen und behandeln
 . Weinheim: PVU Beltz Verlag\n\nKhemlani-Patel, S. & Neziroglu, F. (2022).
  Body dysmorphic disorder. Göttingen: Hogrefe Publishing\n\nvon Auer, A.K
 . & Kaess, M. (2022). Borderline-Persönlichkeitsstörung. Leitfaden Kinde
 r- und Jugendpsychiatrie. Göttingen: Hogrefe
LOCATION:Webinar via Zoom
DTSTAMP:20260110T185519Z
DTSTART:20261103T150000Z
DTEND:20261124T173000Z
END:VEVENT
END:VCALENDAR