BEGIN:VCALENDAR
VERSION:2.0
PRODID:https://github.com/derhansen/sf_event_mgt
METHOD:PUBLISH
BEGIN:VEVENT
UID:597-47@www.neuropsy.at
CLASS: PUBLIC
SUMMARY:Kognitive Funktionen bei Kindern mit Down Syndrom
DESCRIPTION:Ziel Am Ende des Seminarsâ€¦ â€¢Â Â  Â Kennen die Teilnehmenden
  die kÃ¶rperlichen und kognitiven Besonderheiten bei Kindern mit einem Dow
 n-Syndrom â€¢Â Â  Â Sind den Teilnehmenden die wichtigsten kognitiven Entw
 icklungsmeilensteine sowie typische und atypische EntwicklungsverlÃ¤ufe be
 i Kindern mit einem Down Syndrom bekannt â€¢Â Â  Â Kennen die Teilnehmende
 n die Bausteine der neuropsychologische Diagnostik bei Kindern mit intelle
 ktuellen EntwicklungsstÃ¶rungen und haben Einblick in verschiedene Verfahr
 en und Besonderheiten bei DurchfÃ¼hrung und Beurteilung erhalten â€¢Â Â  Â
  Sind den Teilnehmenden mit den wichtigsten therapeutischen Empfehlungen v
 ertraut  Inhalt Das Down Syndrom ist die hÃ¤ufigste genetisch bedingte int
 ellektuelle EntwicklungsstÃ¶rung. Die neuropsychologische Diagnostik bei K
 indern mit intellektuellen EntwicklungsstÃ¶rungen stellt jedoch fÃ¼r viele
  Neuropsychologinnen eine Herausforderung dar. In diesem Seminar soll ein 
 Ãœberblick Ã¼ber die neuropsychologische Diagnostik bei Kindern mit intell
 ektuellen EntwicklungsstÃ¶rungen gegeben werden, mit besonderem Fokus auf 
 das Down Syndrom. Im ersten Teil wird auf medizinische Besonderheiten beim
  Down Syndrom (u.a. hÃ¤ufige KomorbiditÃ¤ten und deren mÃ¶glicher Einfluss
  auf die Kognition; neuroanatomische AuffÃ¤lligkeiten) eingegangen. Anschl
 ieÃŸend werden die wichtigsten kognitiven Entwicklungsmeilensteine dargest
 ellt. Im Hauptteil werden das Vorgehen bei der neuropsychologischen Diagno
 stik, die wichtigsten psychometrischen Verfahren (Testdiagnostik, sowie Fr
 agebÃ¶gen und Interviews fÃ¼r Eltern), sowie Besonderheiten in der Diagnos
 tik bei intellektuellen EntwicklungsstÃ¶rungen besprochen. Neben der neuro
 psychologischen Diagnostik werden auch Verfahren zur Erfassung von psychia
 trischen Symptomen, VerhaltensverÃ¤nderungen und adaptivem Verhalten bespr
 ochen. SchlieÃŸlich sollen auch therapeutische Empfehlungen und die Situat
 ion der AngehÃ¶rigen (Eltern, Geschwisterkinder) besprochen werden. Die We
 iterbildung basiert auf aktueller wissenschaftlicher Literatur und auf akt
 uellen Leitlinien zum Thema. Obwohl der Fokus auf das Thema Down Syndrom g
 esetzt ist, vermittelt das Seminar auch Grundlagenwissen zur Diagnostik be
 i Kindern mit anderen intellektuellen EntwicklungsstÃ¶rungen.  Literaturem
 pfehlung Grieco, J., Pulsifer, M., Seligsohn, K., Skotko, B., & Schwartz, 
 A. (2015). Down syndrome: Cognitive and behavioral functioning across the 
 lifespan. American Journal of Medical Genetics Part C: Seminars in Medical
  Genetics, 169, 135-149.\n\nJenni, O. (2024). Die intellektuelle Entwicklu
 ngsstÃ¶rung â€“ globale Defizite. In O. Jenni (Hrsg.), EntwicklungsstÃ¶run
 gen verstehen. Berlin, Heidelberg: Springer.\n\nLoosli, S. V., Schmidt, L.
 , NÃ¼bling, G., Wlasich, E., Prix, C., Danek, A., & Levin, J. (2021). Kogn
 ition bei Down-Syndrom: Entwicklung Ã¼ber die Lebensspanne und neuropsycho
 logische Diagnostik im Erwachsenenalter. Fortschritte der NeurologieÂ· Psy
 chiatrie, 89, 433-444.\n\nS2k Praxisleitlinie Intelligenzminderung AWMF-Re
 gister Nr. 028-042. https://register.awmf.org/de/leitlinien/detail/028-042
  Â 
LOCATION:Webinar via Zoom
DTSTAMP:20250924T073636Z
DTSTART:20260915T140000Z
DTEND:20260915T171500Z
END:VEVENT
END:VCALENDAR