BEGIN:VCALENDAR
VERSION:2.0
PRODID:https://github.com/derhansen/sf_event_mgt
METHOD:PUBLISH
BEGIN:VEVENT
UID:652-47@www.neuropsy.at
CLASS: PUBLIC
SUMMARY:Funktionelle neurologische StÃ¶rungen - Aufbaukurs mit den Schwerpunkten aktuelle Forschungsergebnisse und State-of-the-Art Erstellung (neuro-)psychologischer TherapieplÃ¤ne
DESCRIPTION:Ziele Dieses Webinar richtet sich insbesondere an Personen, wel
 che mit dem Konzept funktioneller neurologischer StÃ¶rungen zumindest grun
 dlegend vertraut sind. Sie erhalten im ersten Seminarteil einen detaillier
 ten Ãœberblick Ã¼ber aktuelle Forschungsergebnisse, z.B. Ã¼ber die Auswirk
 ungen frÃ¼her Traumatisierung auf Gehirnstruktur und KonnektivitÃ¤t. Der z
 weite Schwerpunkt besteht in der Diskussion von TherapieansÃ¤tzen (insbeso
 ndere dem Pressure-Cooker-Modell).  Inhalt In dem ersten Seminarteil bespr
 echen wir die funktionelle neurologische (Konversions-) StÃ¶rung als einen
  Zustand an der Schnittstelle zwischen Neurologie, Psychiatrie und (Neuro-
 ) Psychologie. Man spricht auch von einem â€žSoftware-Problemâ€œ bei intak
 ter â€žHardwareâ€œ, d.h. es treten zum Teil schwerste motorische, sensoris
 che und kognitive Fehlfunktionen bei intakter makroskopischer Gehirnstrukt
 ur auf.Â  Viele Autor:innen gehen davon aus, dass die Symptome eine willen
 tliche QualitÃ¤t aufweisen, da sie durch Aufmerksamkeit und Ablenkung modi
 fizierbar sind, aber als unkontrollierbar wahrgenommen werden. Andererseit
 s zeigen sich in der Bildgebung bei vielen Betroffenen neben abnormen Akti
 vierungsmustern zugrundeliegender Netzwerke (z.B. Salienz, multimodale Int
 egration und Aufmerksamkeit) auch strukturelle â€žAnomalienâ€œ, darunter e
 ine verstÃ¤rkte KonnektivitÃ¤t zwischen dem limbischen und dem motorischen
  Netzwerk. Es wird diskutiert, ob es sich dabei um prÃ¤disponierende AnfÃ¤
 lligkeiten oder Folgen der StÃ¶rung handelt.Â  Â  Das Thema sorgt fÃ¼r ein
  hohes Konfliktpotential, stellt es aber auch eine hochinteressante Heraus
 forderung dar, welches die Mitarbeit der Psychologie in einem multidiszipl
 inÃ¤ren Team unabdingbar macht. Dies liegt daran, dass Stress, soziale Ein
 flÃ¼sse und Traumata sowie Depressionen und AngstzustÃ¤nde dem Auftreten v
 orausgehen kÃ¶nnen, aber die pathogenen Mechanismen noch unklar sind. Im z
 weiten Seminarteil beschÃ¤ftigen wir uns damit sowie mit aktuellen (psycho
 logischen) TherapieansÃ¤tzen, insbesondere dem â€žPressure Cooker Modellâ€
 œ.Â   Bitte beachten Sie auch den EinfÃ¼hrungskurs zu diesem Thema!  Liter
 aturempfehlung Baizabal-Carvallo JF, Hallett M, Jankovic J. Pathogenesis a
 nd pathophysiology of functional (psychogenic) movement disorders. Neurobi
 ol Dis. 2019 Jul; 127:32-44. doi: 10.1016/j.nbd.2019.02.013. Epub 2019 Feb
  21. PMID: 30798005.\n\nBÃ¨gue I, Adams C, Stone J, Perez DL. Structural a
 lterations in functional neurological disorder and related conditions: a s
 oftware and hardware problem? Neuroimage Clin. 2019;22:101798. doi: 10.101
 6/j.nicl.2019.101798. Epub 2019 Mar 28. PMID: 31146322; PMCID: PMC6484222.
 \n\nDrane DL, Fani N, Hallett M, Khalsa SS, Perez DL, Roberts NA. A framew
 ork for understanding the pathophysiology of functional neurological disor
 der. CNS Spectr. 2020 Sep 4:1-7. doi: 10.1017/S1092852920001789. Epub ahea
 d of print. PMID: 32883381; PMCID: PMC7930164.\n\nEspay AJ, Maloney T, Van
 nest J, Norris MM, Eliassen JC, Neefus E, Allendorfer JB, Lang AE, Szaflar
 ski JP. Impaired emotion processing in functional (psychogenic) tremor: A 
 functional magnetic resonance imaging study. Neuroimage Clin. 2017 Oct 18;
 17:179-187. doi: 10.1016/j.nicl.2017.10.020. PMID: 29085776; PMCID: PMC565
 5406.\n\nPerez DL, Dworetzky BA, Dickerson BC, Leung L, Cohn R, Baslet G, 
 Silbersweig DA. An integrative neurocircuit perspective on psychogenic non
 epileptic seizures and functional movement disorders: neural functional un
 awareness. Clin EEG Neurosci. 2015 Jan;46(1):4-15. doi: 10.1177/1550059414
 555905. Epub 2014 Nov 27. PMID: 25432161; PMCID: PMC4363170.\n\nTeicher MH
 , Samson JA, Anderson CM, Ohashi K. The effects of childhood maltreatment 
 on brain structure, function and connectivity. Nat Rev Neurosci. 2016 Sep 
 19;17(10):652-66. doi: 10.1038/nrn.2016.111. PMID: 27640984.\n\nvan der Hu
 lst, E.-J. (2024) A Patient's Workbook for Functional Neurological Disorde
 r - Helping To Release the Pressure. Taylor & Francis Ltd. ISBN: 978103231
 2835\n\nvan der Hulst, E.-J. (2023). A clinicianâ€™s guide to functional n
 eurological disorder: A practical neuropsychological approach. Routledge. 
 https://doi.org/10.4324/9781003308980
LOCATION:Webinar via Zoom
DTSTAMP:20260416T075526Z
DTSTART:20270308T140000Z
DTEND:20270315T171500Z
END:VEVENT
END:VCALENDAR