BEGIN:VCALENDAR
VERSION:2.0
PRODID:https://github.com/derhansen/sf_event_mgt
METHOD:PUBLISH
BEGIN:VEVENT
UID:626-47@www.neuropsy.at
CLASS: PUBLIC
SUMMARY:Funktionelle Neuroanatomie - Vertiefungskurs
DESCRIPTION:Ziel Vermittlung klinischer und praktisch anwendbarer Kenntniss
 e zum Bezug von neuropsychologischen Störungsbildern und fokalen oder dif
 fusen Hirnläsionen. Im Prinzip baut der Vertiefungskurs auf dem Grundkurs
  auf, d.h. es erfolgt zu Beginn kein allgemeiner Überblick über die Hirn
 anatomie mehr. Bei einigermaßen soliden Grundkenntnissen im Bereich der f
 unktionellen Hirnanatomie kann aber auch problemlos gleich in den Vertiefu
 ngskurs eingestiegen werden. \n\nInhalt Klinik und Neuroanatomie von Amne
 sie, Aufmerksamkeitsstörungen, Exekutivfunktionsstörungen, Aphasien und 
 Sprechapraxien, visuelle Wahrnehmungs- und Raumkognitionsstörungen, Negle
 kt,  Neben der Vermittlung von theoretischen Lerninhalten unter Berücksi
 chtigung der aktuellen Literatur werden wir immer wieder thematisch bezoge
 ne Kasuistiken (oft mit Videobeispielen) von Patienten und deren Bildgebun
 g (CCT, CMRT) gemeinsam diskutieren. Eine abschließende Gruppenübung mit
  realen CT/MRT dient der weiteren Konsolidierung. Alle Teilnehmer erhalten
  ein Hand-on Skript als PDF-Folienausdruck.\n\nLiteraturempfehlung •  
   Prosiegel & Paulig. Klinische Hirnanatomie. Pflaum 2002 •    Trepe
 l. Neuroanatomie. Struktur und Funktion. Urban & Fischer 2011 •    Ka
 rnath & Thier. Kognitive Neurowissenschaften. Springer 2012   Bitte beacht
 en Sie dazu auch den Grundkurs in Funktioneller Neuroanatomie
LOCATION:Salzburg Kolpinghaus
DTSTAMP:20260108T092055Z
DTSTART:20261114T080000Z
DTEND:20261114T151500Z
END:VEVENT
END:VCALENDAR