BEGIN:VCALENDAR
VERSION:2.0
PRODID:https://github.com/derhansen/sf_event_mgt
METHOD:PUBLISH
BEGIN:VEVENT
UID:599-47@www.neuropsy.at
CLASS: PUBLIC
SUMMARY:Demenzdiagnostik bei Menschen mit Down Syndrom
DESCRIPTION:Ziel Am Ende des Seminars… •    Kennen die Teilnehmenden
  die körperlichen und kognitiven Besonderheiten bei Erwachsenen mit einem
  Down Syndrom •    Kennen die Teilnehmenden die Besonderheiten der Al
 zheimer-Erkrankung bei Down Syndrom und können die wichtigsten Differenti
 aldiagnosen aufzählen •    Sind die Teilnehmenden mit den verschiede
 nen Bestandteilen der interdisziplinären Demenzdiagnostik bei Personen mi
 t Down Syndrom vertraut  •    Kennen die Teilnehmenden die wichtigst
 en (neuro)psychologischen Verfahren zur Demenzdiagnostik bei Menschen mit 
 intellektuellen Entwicklungsstörungen und können diese einsetzen •  
   Sind die Teilnehmenden mit den wichtigsten therapeutischen Empfehlungen
  vertraut  Inhalt Im Seminar werden zunächst medizinische und psychologis
 che Grundlagen zum Thema Demenz bei Down Syndrom vermittelt. Es wird insbe
 sondere auch auf verschiedene Komorbiditäten eingegangen, welche die Kogn
 ition beeinflussen können. Die Teilnehmenden erhalten anhand von Fallbeis
 pielen einen praktischen Einblick in die interdisziplinäre Demenzdiagnost
 ik (medizinische und neuropsychologische Untersuchung, Labor, Bildgebung, 
 Liquordiagnostik). Schwerpunkt bildet die neuropsychologische Diagnostik u
 nd diesbezügliche Besonderheiten, und es werden vertieft verschiedene psy
 chodiagnostische Verfahren (z.B. CAMDEX-DS, DTIM, WTB) behandelt. Zudem we
 rden mögliche therapeutische Empfehlungen sowie Unterstützungsmöglichke
 iten für Patienten und Angehörige besprochen. Die Weiterbildung basiert 
 auf aktueller wissenschaftlicher Literatur und auf aktuellen Leitlinien zu
 m Thema und wird mit Fallbeispielen aus dem klinischen Alltag veranschauli
 cht Obwohl der Fokus auf das Thema Down Syndrom gesetzt ist, vermittelt da
 s Seminar auch Wissen zur Diagnostik bei Personen mit anderen intellektuel
 len Entwicklungsstörungen.  Literaturempfehlung Boyle, R., Koops, E. A., 
 Ances, B., Andrews, E. J., Arenaza‐Urquijo, E. M., Bejanin, A., ... & Ha
 rtley, S. (2025). Resistance and resilience to Alzheimer's disease in Down
  syndrome. Alzheimer's & Dementia, 21(4), e70151.\n\nFortea, J., Zaman, S.
  H., Hartley, S., Rafii, M. S., Head, E., & Carmona-Iragui, M. (2021). Alz
 heimer's disease associated with Down syndrome: a genetic form of dementia
 . The Lancet Neurology, 20(11), 930-942.\n\nLoosli, S. V., Schmidt, L., N
 bling, G., Wlasich, E., Prix, C., Danek, A., & Levin, J. (2021). Kognitio
 n bei Down-Syndrom: Entwicklung über die Lebensspanne und neuropsychologi
 sche Diagnostik im Erwachsenenalter. Fortschritte der Neurologie· Psychia
 trie, 89(09), 433-444.\n\nZeilinger, E. L., Novakovic, I. Z., Komenda, S.,
  Franken, F., Sobisch, M., Mayer, A. M., ... & Pietschnig, J. (2022). Info
 rmant-based assessment instruments for dementia in people with intellectua
 l disability: A systematic review and standardised evaluation. Research in
  Developmental Disabilities, 121, 104148.  
LOCATION:Webinar via Zoom
DTSTAMP:20250924T074401Z
DTSTART:20261204T150000Z
DTEND:20261204T181500Z
END:VEVENT
END:VCALENDAR