BEGIN:VCALENDAR
VERSION:2.0
PRODID:https://github.com/derhansen/sf_event_mgt
METHOD:PUBLISH
BEGIN:VEVENT
UID:628-47@www.neuropsy.at
CLASS: PUBLIC
SUMMARY:ADHS und Autismus: Überschneidungen und Unterschiede
DESCRIPTION:Ziel •    Differenzierte Darstellung zentraler Merkmale vo
 n Autismus-Spektrum-Störung und ADHS im Kindes- und Erwachsenenalter •
    Herausarbeitung überlappender und distinkter Symptome unter Berück
 sichtigung unterschiedlicher neuropsychologischer und entwicklungsbezogene
 r Ursachen •    Einordnung des Phänomens des „Masking“ bei Autis
 mus und ADHS sowie dessen diagnostische und psychosoziale Implikationen 
     Reflexion häufiger Missverständnisse, Fehldiagnosen und diagnost
 ischer Grenzverläufe im klinischen Alltag •    Diskussion individuel
 ler Anpassungs- und Kompensationsmechanismen  •    Bedeutung komorbi
 der psychischer Erkrankungen für Symptompräsentation, Verlauf und Diagno
 stik\n\nInhalt Im Zentrum des Webinars steht die differenzierte Betrachtun
 g von Autismus-Spektrum-Störung und ADHS im Kindes- und Erwachsenenalter.
  Neben der Darstellung zentraler Merkmale beider Störungsbilder werden in
 sbesondere überlappende und voneinander abgrenzbare Symptome analysiert 
  auch im Hinblick auf ihre unterschiedlichen neuropsychologischen und en
 twicklungsbezogenen Ursachen. Thematisiert werden darüber hinaus die diag
 nostische Relevanz von „Masking“-Phänomenen, typische Missverständni
 sse und Fehldiagnosen sowie der Einfluss komorbider psychischer Erkrankung
 en. Abschließend wird ein Fokus auf funktionelle Beeinträchtigungen in v
 erschiedenen Lebensbereichen und auf individuelle Bewältigungsstrategien 
 im Erwachsenenalter gelegt.\n\nLiteraturempfehlung\n\nAmons, P. J., & Kooi
 j, J. J. S. (2006). Seasonal affective disorder in adult ADHD. Journal of 
 Affective Disorders, 91(2–3), 251–255. https://doi.org/10.1016/j.jad.2
 005.12.048\n\nAntshel, K. M., & Russo, N. (2019). Autism spectrum disorder
 s and ADHD: Overlapping phenomenology, diagnostic issues, and treatment co
 nsiderations. Current Psychiatry Reports, 21(34). https://doi.org/10.1007/
 s11920-019-1020-5\n\nBeheshti, A., Chavanon, M.-L., & Christiansen, H. (20
 20). Emotion dysregulation in adults with attention deficit hyperactivity 
 disorder: A meta-analysis. BMC Psychiatry, 20(1), 120. https://doi.org/10.
 1186/s12888-020-2442-7\n\nBrown, T. (2018): ADHS bei Kindern und Erwachsen
 en – eine neue Sichtweise. Hogrefe Chavanon, M.-L., Riechmann, E., Sattl
 er, F. A., Priester, S., Albrecht, B., Kis, B., &\n\nChristiansen, H. (201
 8). Emotionsregulation bei ADHS – kardiovagale Kontrolle als Biomarker? 
 Lernen und Lernstörungen, 7(2), 103–115. https://doi.org/10.1024/2235-0
 977/a000204\n\nHull, L. et al. (2017): “Putting on my best normal”: so
 cial camouflaging in adults with Autism Spectrum Conditions. In: Journal o
 f Autism and Developmental Disorders 47/8, 2519–2534\n\nKooij, J. J. S.,
  Huss, M., Asherson, P., Akehurst, R., Beusterien, K., French, A., Sasané
 , R., & Hodgkins, P. (2012). Distinguishing comorbidity and successful man
 agement of adult ADHD. Journal of Attention Disorders, 16(5_suppl), 3S–1
 9S. https://doi.org/10.1177/1087054711435361\n\nRiechmann, E., Sattler, F.
  A., Christiansen, H., & Chavanon, M.-L. (2017). Emotionsregulation: Konze
 pte, Modellvorstellungen und aktuelle Befunde bei ADHS [Emotion regulation
 : Concepts, models and current reports for ADHD]. Lernen und Lernstörunge
 n, 6(3), 145–155. https://doi.org/10.xxxx/yyyy  
LOCATION:Webinar via Zoom
DTSTAMP:20260303T184020Z
DTSTART:20261201T153000Z
DTEND:20261201T184500Z
END:VEVENT
END:VCALENDAR